BEGIN:VCALENDAR
VERSION:2.0
PRODID:-//Tukios.com/
BEGIN:VEVENT
UID:b1c4024b-3ca2-4c6c-9ba6-850d70180bba@www.rolandfuneralservice.com
DTSTAMP:20260422T001858Z
DTSTART:20260502
SUMMARY:Burial
DESCRIPTION:Interment at the Atlantic Cemetery will immediately follow 
	the luncheon.
URL:https://www.rolandfuneralservice.com/obituaries/ramona-knop
LOCATION: 63119 White Pole Rd  Atlantic IA 50022
GEO:41.4017017;-94.9819031
END:VEVENT
END:VCALENDAR