BEGIN:VCALENDAR
VERSION:2.0
PRODID:-//Tukios.com/
BEGIN:VEVENT
UID:36f16528-8107-40b8-a590-8426b15b0f76@www.rolandfuneralservice.com
DTSTAMP:20260422T001951Z
DTSTART:20260502T160000Z
DTEND:20260502T170000Z
SUMMARY:Funeral Service
DESCRIPTION:
URL:https://www.rolandfuneralservice.com/obituaries/ramona-knop
LOCATION:First United Presbyterian Church 204 East 5th Street  Atlantic 
	IA 50022
GEO:41.4061709;-95.0098357
END:VEVENT
END:VCALENDAR