BEGIN:VCALENDAR
VERSION:2.0
PRODID:-//Tukios.com/
BEGIN:VEVENT
UID:7d5fdb92-ab82-4d71-a3f2-b5de64e0c325@www.rolandfuneralservice.com
DTSTAMP:20260422T001951Z
DTSTART:20260502T143000Z
DTEND:20260502T160000Z
SUMMARY:Visitation
DESCRIPTION:
URL:https://www.rolandfuneralservice.com/obituaries/ramona-knop
LOCATION:First United Presbyterian Church 204 East 5th Street  Atlantic 
	IA 50022
GEO:41.4061709;-95.0098357
END:VEVENT
END:VCALENDAR